BEGIN:VCALENDAR
VERSION:2.0
PRODID:-//wp-events-plugin.com//7.2.3.1//EN
BEGIN:VEVENT
UID:3691@woodruffplace.org
DTSTART:20261116T230000Z
DTEND:20261117T003000Z
DTSTAMP:20260310T144848Z
URL:https://woodruffplace.org/event/wp-historic-preservation-committee-202
 6-04-20-2026-05-18-2026-06-15-2026-07-20-2026-08-17-2026-09-21-2026-10-19-
 2026-11-16/
SUMMARY:WP Historic Preservation Committee
DESCRIPTION:WP Historic Preservation Committee\n\nThe historic preservation
  committee will be meeting regularly on the third Monday of each month.
CATEGORIES:Meeting
LOCATION:Woodruff Place Town Hall\, 735 Woodruff Place East Drive\, Indiana
 polis\, Indiana\, 46201\, United States
GEO:39.7776145;-86.12652779999996
X-APPLE-STRUCTURED-LOCATION;VALUE=URI;X-ADDRESS=735 Woodruff Place East Dri
 ve\, Indianapolis\, Indiana\, 46201\, United States;X-APPLE-RADIUS=100;X-T
 ITLE=Woodruff Place Town Hall:geo:39.7776145,-86.12652779999996
END:VEVENT
END:VCALENDAR