BEGIN:VCALENDAR
VERSION:2.0
PRODID:-//wp-events-plugin.com//7.2.3.1//EN
BEGIN:VEVENT
UID:3630@woodruffplace.org
DTSTART;VALUE=DATE:20260717
DTEND;VALUE=DATE:20260720
DTSTAMP:20250922T160311Z
URL:https://woodruffplace.org/event/woodruff-place-fish-fry-2/
SUMMARY:Woodruff Place Fish Fry
DESCRIPTION:Reserving the Town Hall for the 2026 Woodruff Place Fish Fry.\n
 \nThis is a Foundation event.\n\nThe 2026 Woodruff Place Fish Fry will tak
 e place on Saturday\, July 18. 
CATEGORIES:Neighborhood Event
LOCATION:Woodruff Place Town Hall\, 735 Woodruff Place East Drive\, Indiana
 polis\, Indiana\, 46201\, United States
GEO:39.7776145;-86.12652779999996
X-APPLE-STRUCTURED-LOCATION;VALUE=URI;X-ADDRESS=735 Woodruff Place East Dri
 ve\, Indianapolis\, Indiana\, 46201\, United States;X-APPLE-RADIUS=100;X-T
 ITLE=Woodruff Place Town Hall:geo:39.7776145,-86.12652779999996
END:VEVENT
END:VCALENDAR