BEGIN:VCALENDAR
VERSION:2.0
PRODID:-//wp-events-plugin.com//7.2.3.1//EN
BEGIN:VEVENT
UID:3696@woodruffplace.org
DTSTART:20260606T140000Z
DTEND:20260607T220000Z
DTSTAMP:20260310T162501Z
URL:https://woodruffplace.org/event/woodruff-place-annual-flea-market-2/
SUMMARY:Woodruff Place Annual Flea Market
DESCRIPTION:https://woodruffplace.org/events/flea-market/
CATEGORIES:Neighborhood Event
END:VEVENT
END:VCALENDAR