BEGIN:VCALENDAR
VERSION:2.0
PRODID:-//wp-events-plugin.com//7.2.3.1//EN
BEGIN:VEVENT
UID:3649@woodruffplace.org
DTSTART:20260128T133000Z
DTEND:20260128T193000Z
DTSTAMP:20260105T172900Z
URL:https://woodruffplace.org/event/suzanne-pritchard-3/
SUMMARY:Suzanne Pritchard
DESCRIPTION:
CATEGORIES:Rental Event
END:VEVENT
END:VCALENDAR