BEGIN:VCALENDAR
VERSION:2.0
PRODID:-//wp-events-plugin.com//7.2.3.1//EN
BEGIN:VEVENT
UID:3657@woodruffplace.org
DTSTART:20260816T050000Z
DTEND:20260816T050000Z
DTSTAMP:20260116T151046Z
URL:https://woodruffplace.org/event/senior-soiree-2/
SUMMARY:Senior Soiree
DESCRIPTION:Details coming soon.
CATEGORIES:Neighborhood Event
END:VEVENT
END:VCALENDAR