BEGIN:VCALENDAR
VERSION:2.0
PRODID:-//wp-events-plugin.com//7.2.3.1//EN
BEGIN:VEVENT
UID:3653@woodruffplace.org
DTSTART:20260507T050000Z
DTEND:20260510T050000Z
DTSTAMP:20260114T145724Z
URL:https://woodruffplace.org/event/neighborhood-urn-planting-3/
SUMMARY:Neighborhood Urn Planting
DESCRIPTION:Karen Markman & Sher Burgin
CATEGORIES:Neighborhood Event
LOCATION:Woodruff Place Town Hall\, 735 Woodruff Place East Drive\, Indiana
 polis\, Indiana\, 46201\, United States
GEO:39.7776145;-86.12652779999996
X-APPLE-STRUCTURED-LOCATION;VALUE=URI;X-ADDRESS=735 Woodruff Place East Dri
 ve\, Indianapolis\, Indiana\, 46201\, United States;X-APPLE-RADIUS=100;X-T
 ITLE=Woodruff Place Town Hall:geo:39.7776145,-86.12652779999996
END:VEVENT
END:VCALENDAR