BEGIN:VCALENDAR
VERSION:2.0
PRODID:-//wp-events-plugin.com//7.2.3.1//EN
BEGIN:VEVENT
UID:3674@woodruffplace.org
DTSTART:20260424T220000Z
DTEND:20260425T023000Z
DTSTAMP:20260310T183721Z
URL:https://woodruffplace.org/event/middle-school-dance/
SUMMARY:Middle School Dance
DESCRIPTION:Middle school dance set up\, chaperoned\, and torn down by WP n
 eighbor\, Kassi Hall. 
CATEGORIES:Rental Event
LOCATION:Woodruff Place Town Hall\, 735 Woodruff Place East Drive\, Indiana
 polis\, Indiana\, 46201\, United States
GEO:39.7776145;-86.12652779999996
X-APPLE-STRUCTURED-LOCATION;VALUE=URI;X-ADDRESS=735 Woodruff Place East Dri
 ve\, Indianapolis\, Indiana\, 46201\, United States;X-APPLE-RADIUS=100;X-T
 ITLE=Woodruff Place Town Hall:geo:39.7776145,-86.12652779999996
END:VEVENT
END:VCALENDAR