BEGIN:VCALENDAR
VERSION:2.0
PRODID:-//wp-events-plugin.com//7.2.3.1//EN
BEGIN:VEVENT
UID:3512@woodruffplace.org
DTSTART:20251024T233000Z
DTEND:20251025T010000Z
DTSTAMP:20250520T154932Z
URL:https://woodruffplace.org/event/indiana-landmarks-spooky-themed-walkin
 g-tour-12/
SUMMARY:Indiana Landmarks - "Spooky" Themed Walking Tour
DESCRIPTION:Indiana Landmarks (IL) is sponsoring 90 minute WP neighborhood 
 "Spooky" walking tours throughout October on Friday evenings. The 90 minut
 e tours start at Town Hall\, and IL trained docents will share spooky stor
 ies of the neighborhood. (Exteriors only\, except Town Hall).  Go to this 
 link and scroll down to find ticket prices and more info for the various d
 ates: Walking Tours 
CATEGORIES:Rental Event
END:VEVENT
END:VCALENDAR