BEGIN:VCALENDAR
VERSION:2.0
PRODID:-//wp-events-plugin.com//7.2.3.1//EN
BEGIN:VEVENT
UID:3513@woodruffplace.org
DTSTART:20260515T050000Z
DTEND:20260517T050000Z
DTSTAMP:20260109T190230Z
URL:https://woodruffplace.org/event/hold-rebecca-and-joels-wedding/
SUMMARY:Rebecca and Joel's Wedding
DESCRIPTION:The rehearsal dinner would be Friday May 15\, 2026  and would 
 be 1-30 people\, just the wedding party.\nThe Wedding would be Sunday 5/16
 /2026 and would be the largest category of number of people  allowed.\nSu
 nday May 17/2026 we would want to be able to come in and clean up and remo
 ve decorations.
CATEGORIES:Rental Event
LOCATION:Woodruff Place Town Hall\, 735 Woodruff Place East Drive\, Indiana
 polis\, Indiana\, 46201\, United States
GEO:39.7776145;-86.12652779999996
X-APPLE-STRUCTURED-LOCATION;VALUE=URI;X-ADDRESS=735 Woodruff Place East Dri
 ve\, Indianapolis\, Indiana\, 46201\, United States;X-APPLE-RADIUS=100;X-T
 ITLE=Woodruff Place Town Hall:geo:39.7776145,-86.12652779999996
END:VEVENT
END:VCALENDAR