BEGIN:VCALENDAR
VERSION:2.0
PRODID:-//wp-events-plugin.com//7.2.3.1//EN
BEGIN:VEVENT
UID:3659@woodruffplace.org
DTSTART:20261017T140000Z
DTEND:20261017T180000Z
DTSTAMP:20260210T142842Z
URL:https://woodruffplace.org/event/hold-neighborhood-fall-cleanup/
SUMMARY:Neighborhood Fall Cleanup
DESCRIPTION:Neighborhood Fall Cleanup
CATEGORIES:Neighborhood Event
LOCATION:Woodruff Place Town Hall\, 735 Woodruff Place East Drive\, Indiana
 polis\, Indiana\, 46201\, United States
GEO:39.7776145;-86.12652779999996
X-APPLE-STRUCTURED-LOCATION;VALUE=URI;X-ADDRESS=735 Woodruff Place East Dri
 ve\, Indianapolis\, Indiana\, 46201\, United States;X-APPLE-RADIUS=100;X-T
 ITLE=Woodruff Place Town Hall:geo:39.7776145,-86.12652779999996
END:VEVENT
END:VCALENDAR