BEGIN:VCALENDAR
VERSION:2.0
PRODID:-//wp-events-plugin.com//7.2.3.1//EN
BEGIN:VEVENT
UID:134@woodruffplace.org
DTSTART:20261110T000000Z
DTEND:20261110T013000Z
DTSTAMP:20170210T201856Z
URL:https://woodruffplace.org/event/general-membership-meeting-2026-11-09/
SUMMARY:General Membership Meeting
DESCRIPTION:General Membership Meetings occur every other month (odd months
 )\, the second Monday of the month\, in Town Hall.
CATEGORIES:Meeting
LOCATION:Woodruff Place Town Hall\, 735 Woodruff Place East Drive\, Indiana
 polis\, Indiana\, 46201\, United States
GEO:39.7776145;-86.12652779999996
X-APPLE-STRUCTURED-LOCATION;VALUE=URI;X-ADDRESS=735 Woodruff Place East Dri
 ve\, Indianapolis\, Indiana\, 46201\, United States;X-APPLE-RADIUS=100;X-T
 ITLE=Woodruff Place Town Hall:geo:39.7776145,-86.12652779999996
END:VEVENT
END:VCALENDAR