BEGIN:VCALENDAR
VERSION:2.0
PRODID:-//wp-events-plugin.com//7.2.3.1//EN
BEGIN:VEVENT
UID:3081@woodruffplace.org
DTSTART:20170718T233000Z
DTEND:20170719T010000Z
DTSTAMP:20250215T225252Z
URL:https://woodruffplace.org/event/foundation-board-meeting-2017-07-18/
SUMMARY:Foundation Board Meeting
DESCRIPTION:Foundation meetings are the 3rd Tuesday of the month at 6:30 p.
 m. at Town Hall.
CATEGORIES:Meeting
LOCATION:Woodruff Place Town Hall\, 735 Woodruff Place East Drive\, Indiana
 polis\, Indiana\, 46201\, United States
GEO:39.7776145;-86.12652779999996
X-APPLE-STRUCTURED-LOCATION;VALUE=URI;X-ADDRESS=735 Woodruff Place East Dri
 ve\, Indianapolis\, Indiana\, 46201\, United States;X-APPLE-RADIUS=100;X-T
 ITLE=Woodruff Place Town Hall:geo:39.7776145,-86.12652779999996
END:VEVENT
END:VCALENDAR