BEGIN:VCALENDAR
VERSION:2.0
PRODID:-//wp-events-plugin.com//7.2.3.1//EN
BEGIN:VEVENT
UID:3705@woodruffplace.org
DTSTART:20260421T230000Z
DTEND:20260422T003000Z
DTSTAMP:20260414T134627Z
URL:https://woodruffplace.org/event/flea-market-meeting-7/
SUMMARY:Flea Market meeting
DESCRIPTION:I see the foundation is having a meeting that night in the boar
 d room. We would be happy to just set up in the general room. I can reach 
 out to foundation president to confirm they are ok if we "share" the space
 .. but in different rooms. Julie
CATEGORIES:Meeting
LOCATION:Woodruff Place Town Hall\, 735 Woodruff Place East Drive\, Indiana
 polis\, Indiana\, 46201\, United States
GEO:39.7776145;-86.12652779999996
X-APPLE-STRUCTURED-LOCATION;VALUE=URI;X-ADDRESS=735 Woodruff Place East Dri
 ve\, Indianapolis\, Indiana\, 46201\, United States;X-APPLE-RADIUS=100;X-T
 ITLE=Woodruff Place Town Hall:geo:39.7776145,-86.12652779999996
END:VEVENT
END:VCALENDAR