BEGIN:VCALENDAR
VERSION:2.0
PRODID:-//wp-events-plugin.com//7.2.3.1//EN
BEGIN:VEVENT
UID:3701@woodruffplace.org
DTSTART:20260323T230000Z
DTEND:20260323T230000Z
DTSTAMP:20260326T184319Z
URL:https://woodruffplace.org/event/flea-market-meeting-6/
SUMMARY:Flea Market Meeting
DESCRIPTION:Sheepishly again I am requesting way too late. I checked the ca
 lendar and no one else is booked. Sorry\n\n&nbsp\;
CATEGORIES:Meeting
LOCATION:Woodruff Place Town Hall\, 735 Woodruff Place East Drive\, Indiana
 polis\, Indiana\, 46201\, United States
GEO:39.7776145;-86.12652779999996
X-APPLE-STRUCTURED-LOCATION;VALUE=URI;X-ADDRESS=735 Woodruff Place East Dri
 ve\, Indianapolis\, Indiana\, 46201\, United States;X-APPLE-RADIUS=100;X-T
 ITLE=Woodruff Place Town Hall:geo:39.7776145,-86.12652779999996
END:VEVENT
END:VCALENDAR