BEGIN:VCALENDAR
VERSION:2.0
PRODID:-//wp-events-plugin.com//7.2.3.1//EN
BEGIN:VEVENT
UID:3616@woodruffplace.org
DTSTART:20250626T230000Z
DTEND:20250627T000000Z
DTSTAMP:20250626T124734Z
URL:https://woodruffplace.org/event/flea-market-follow-up/
SUMMARY:Flea Market Follow-up
DESCRIPTION:Sorry for the delay in getting a request in. My hope was to tak
 e everyone out for drinks as a thanks... but I'm going to just bring a coo
 ler of beers instead as my timing capacity is more limited tomorrow than I
  thought. 
CATEGORIES:Meeting
LOCATION:Woodruff Place Town Hall\, 735 Woodruff Place East Drive\, Indiana
 polis\, Indiana\, 46201\, United States
GEO:39.7776145;-86.12652779999996
X-APPLE-STRUCTURED-LOCATION;VALUE=URI;X-ADDRESS=735 Woodruff Place East Dri
 ve\, Indianapolis\, Indiana\, 46201\, United States;X-APPLE-RADIUS=100;X-T
 ITLE=Woodruff Place Town Hall:geo:39.7776145,-86.12652779999996
END:VEVENT
END:VCALENDAR