BEGIN:VCALENDAR
VERSION:2.0
PRODID:-//wp-events-plugin.com//7.2.3.1//EN
BEGIN:VEVENT
UID:3448@woodruffplace.org
DTSTART:20280809T000000Z
DTEND:20280809T010000Z
DTSTAMP:20250215T225432Z
URL:https://woodruffplace.org/event/eid-board-meeting-5-2028-08-08/
SUMMARY:EID Board Meeting
DESCRIPTION:Second Tuesday of every odd month\, 7pm. Board meetings are ope
 n to all Woodruff Place residents.
CATEGORIES:Meeting
LOCATION:Woodruff Place Town Hall\, 735 Woodruff Place East Drive\, Indiana
 polis\, Indiana\, 46201\, United States
GEO:39.7776145;-86.12652779999996
X-APPLE-STRUCTURED-LOCATION;VALUE=URI;X-ADDRESS=735 Woodruff Place East Dri
 ve\, Indianapolis\, Indiana\, 46201\, United States;X-APPLE-RADIUS=100;X-T
 ITLE=Woodruff Place Town Hall:geo:39.7776145,-86.12652779999996
END:VEVENT
END:VCALENDAR