BEGIN:VCALENDAR
VERSION:2.0
PRODID:-//wp-events-plugin.com//7.2.3.1//EN
BEGIN:VEVENT
UID:3308@woodruffplace.org
DTSTART:20260901T230000Z
DTEND:20260902T000000Z
DTSTAMP:20250215T225357Z
URL:https://woodruffplace.org/event/civic-league-board-meeting-3-2026-09-0
 1/
SUMMARY:Civic League Board Meeting
DESCRIPTION:The Civic League Board meets on the first Tuesday of every mont
 h
CATEGORIES:Meeting
LOCATION:Woodruff Place Town Hall\, 735 Woodruff Place East Drive\, Indiana
 polis\, Indiana\, 46201\, United States
GEO:39.7776145;-86.12652779999996
X-APPLE-STRUCTURED-LOCATION;VALUE=URI;X-ADDRESS=735 Woodruff Place East Dri
 ve\, Indianapolis\, Indiana\, 46201\, United States;X-APPLE-RADIUS=100;X-T
 ITLE=Woodruff Place Town Hall:geo:39.7776145,-86.12652779999996
END:VEVENT
END:VCALENDAR