BEGIN:VCALENDAR
VERSION:2.0
PRODID:-//wp-events-plugin.com//7.2.3.1//EN
BEGIN:VEVENT
UID:3658@woodruffplace.org
DTSTART:20260919T050000Z
DTEND:20260919T050000Z
DTSTAMP:20260116T151123Z
URL:https://woodruffplace.org/event/arsenal-tech-5k-2/
SUMMARY:Arsenal Tech 5k
DESCRIPTION:Arsenal Tech 5k\n
CATEGORIES:Neighborhood Event
END:VEVENT
END:VCALENDAR