BEGIN:VCALENDAR
VERSION:2.0
PRODID:-//wp-events-plugin.com//7.2.3.1//EN
BEGIN:VEVENT
UID:3520@woodruffplace.org
DTSTART:20250608T150000Z
DTEND:20250608T220000Z
DTSTAMP:20250530T125955Z
URL:https://woodruffplace.org/event/2025-woodruff-place-flea-market-2/
SUMMARY:2025 Woodruff Place Flea Market
DESCRIPTION:2025 Woodruff Place Flea Market - Event Details\n\nJulie Kavana
 ugh
CATEGORIES:Neighborhood Event
END:VEVENT
END:VCALENDAR